BEGIN:VCALENDAR
VERSION:2.0
PRODID:icalendar-ruby
CALSCALE:GREGORIAN
METHOD:PUBLISH
BEGIN:VEVENT
DTSTAMP:20260424T134035Z
UID:129-557917@gracenowccc.org
DTSTART:20261029T020000Z
DTEND:20261029T033000Z
CLASS:PUBLIC
CREATED:20260424T043026
DESCRIPTION:
LAST-MODIFIED:20260424T043026
LOCATION:2847 Cortez St. Oxnard
SUMMARY:YOUTH NIGHTS
URL;VALUE=URI:https://gracenowccc.org/events/youth-nights--129/2026-10-28
ATTACH;FILENAME=GNY.jpeg;FMTTYPE=image/jpeg:https://dq5pwpg1q8ru0.cloudfron
 t.net/2025/11/23/06/34/10/377c998a-7a92-464c-b1ab-e0bee12bd945/GNY.jpeg
END:VEVENT
END:VCALENDAR
